BEGIN:VCALENDAR
VERSION:2.0
PRODID:-//Tukios.com/
BEGIN:VEVENT
UID:cfe00642-f07d-4bbd-acb3-bc4faddc336f@www.eastgatefuneral.com
DTSTAMP:20260422T224555Z
DTSTART:20260427T220000Z
DTEND:20260428T000000Z
SUMMARY:Visitation
DESCRIPTION:
URL:https://www.eastgatefuneral.com/obituaries/darlene-schmidt
LOCATION:Parkway Funeral Service 2330 Tyler Pkwy  Bismarck ND 58503
GEO:46.8320903;-100.8192881
END:VEVENT
END:VCALENDAR