BEGIN:VCALENDAR
VERSION:2.0
PRODID:-//Tukios.com/
BEGIN:VEVENT
UID:d9c5c81c-437f-49ea-878b-369c0dc0cf6a@www.eastgatefuneral.com
DTSTAMP:20260422T224231Z
DTSTART:20260428T000000Z
DTEND:20260428T010000Z
SUMMARY:Prayer Service
DESCRIPTION:
URL:https://www.eastgatefuneral.com/obituaries/darlene-schmidt
LOCATION:Parkway Funeral Service 2330 Tyler Pkwy  Bismarck ND 58503
GEO:46.8320903;-100.8192881
END:VEVENT
END:VCALENDAR