BEGIN:VCALENDAR
VERSION:2.0
PRODID:-//Tukios.com/
BEGIN:VEVENT
UID:4ef681fe-d692-41c2-8336-3f7d613b4c4f@www.eastgatefuneral.com
DTSTAMP:20260422T224103Z
DTSTART:20260428T150000Z
DTEND:20260428T160000Z
SUMMARY:Mass
DESCRIPTION:
URL:https://www.eastgatefuneral.com/obituaries/darlene-schmidt
LOCATION:Ascension Catholic Church 1825 S 3rd St  Bismarck ND 58504
GEO:46.7825464;-100.7815502
END:VEVENT
END:VCALENDAR