BEGIN:VCALENDAR
VERSION:2.0
PRODID:-//Tukios.com/
BEGIN:VEVENT
UID:2e5a9f61-2a3d-457c-a746-29ce1848fd73@www.eastgatefuneral.com
DTSTAMP:20260422T224748Z
DTSTART:20260428T190000Z
DTEND:20260428T200000Z
SUMMARY:Burial
DESCRIPTION:
URL:https://www.eastgatefuneral.com/obituaries/darlene-schmidt
LOCATION:North Dakota Veterans Cemetery 1825 46th St  Mandan ND 58554
GEO:46.7508511;-100.8502503
END:VEVENT
END:VCALENDAR