BEGIN:VCALENDAR
VERSION:2.0
PRODID:-//Tukios.com/
BEGIN:VEVENT
UID:ee97411f-3b21-4348-9625-10668214e849@www.eastgatefuneral.com
DTSTAMP:20260419T224618Z
DTSTART:20260421T150000Z
DTEND:20260421T160000Z
SUMMARY:Funeral Service
DESCRIPTION:
URL:https://www.eastgatefuneral.com/obituaries/joan-fitzgerald
LOCATION: 2302 East Divide Avenue  Bismarck ND 58501
GEO:46.8238488;-100.7570416
END:VEVENT
END:VCALENDAR