BEGIN:VCALENDAR
VERSION:2.0
PRODID:-//Tukios.com/
BEGIN:VEVENT
UID:054dd159-4a45-4edc-9f1b-9898f8280b76@www.eastgatefuneral.com
DTSTAMP:20260424T234013Z
DTSTART:20260429T153000Z
DTEND:20260429T163000Z
SUMMARY:Mass
DESCRIPTION:
URL:https://www.eastgatefuneral.com/obituaries/joan-lorenz
LOCATION:Cathedral of the Holy Spirit 520 Raymond St  Bismarck ND 58501
GEO:46.8104761;-100.796186
END:VEVENT
END:VCALENDAR