BEGIN:VCALENDAR
VERSION:2.0
PRODID:-//Tukios.com/
BEGIN:VEVENT
UID:1dea44e9-a0d1-4e25-8d4d-9878f095835b@www.eastgatefuneral.com
DTSTAMP:20260424T232025Z
DTSTART:20260501T163000Z
DTEND:20260501T173000Z
SUMMARY:Memorial Service
DESCRIPTION:
URL:https://www.eastgatefuneral.com/obituaries/kathleen-hirchert
LOCATION: 701 7th St N  Wilton ND 58579
GEO:47.1652923;-100.7906439
END:VEVENT
END:VCALENDAR