BEGIN:VCALENDAR
VERSION:2.0
PRODID:-//Tukios.com/
BEGIN:VEVENT
UID:d81f9a0b-5c4c-4abd-a745-0f4a32f4ea02@www.eastgatefuneral.com
DTSTAMP:20260424T232337Z
DTSTART:20260501T200000Z
DTEND:20260501T203000Z
SUMMARY:Burial
DESCRIPTION:
URL:https://www.eastgatefuneral.com/obituaries/kathleen-hirchert
LOCATION: 1825 46th St  Mandan ND 58554
GEO:46.7508511;-100.8502503
END:VEVENT
END:VCALENDAR