BEGIN:VCALENDAR
VERSION:2.0
PRODID:-//Tukios.com/
BEGIN:VEVENT
UID:f3e62622-29c9-41af-8c8e-f1a12c2c5cf4@www.eastgatefuneral.com
DTSTAMP:20260420T190528Z
DTSTART:20260424T150000Z
DTEND:20260424T160000Z
SUMMARY:Funeral Service
DESCRIPTION:
URL:https://www.eastgatefuneral.com/obituaries/marjorie-peffer
LOCATION:Church of Corpus Christi 1919 N 2nd St  Bismarck ND 58501
GEO:46.8270275;-100.7892575
END:VEVENT
END:VCALENDAR