BEGIN:VCALENDAR
VERSION:2.0
PRODID:-//Tukios.com/
BEGIN:VEVENT
UID:1b61c3b7-c3c2-4cb0-9ced-cd8bbe97d9ea@www.eastgatefuneral.com
DTSTAMP:20260420T190658Z
DTSTART:20260424T180000Z
DTEND:20260424T190000Z
SUMMARY:Graveside Service
DESCRIPTION:
URL:https://www.eastgatefuneral.com/obituaries/marjorie-peffer
LOCATION:Mandan Union Cemetery 1600 Mandan Ave  Mandan ND 58554
GEO:46.841435;-100.8733017
END:VEVENT
END:VCALENDAR