BEGIN:VCALENDAR
VERSION:2.0
PRODID:-//Tukios.com/
BEGIN:VEVENT
UID:6280bc10-245f-4887-8635-f54ea5e13fe8@www.eastgatefuneral.com
DTSTAMP:20260421T090902Z
DTSTART:20260606T170000Z
DTEND:20260606T200000Z
SUMMARY:Celebration of Life
DESCRIPTION:
URL:https://www.eastgatefuneral.com/obituaries/rod-kimball
LOCATION:The Lodge 1247 West Divide Avenue  Bismarck ND 58501
GEO:46.8256205;-100.8146626
END:VEVENT
END:VCALENDAR