BEGIN:VCALENDAR
VERSION:2.0
PRODID:-//Tukios.com/
BEGIN:VEVENT
UID:7db859b4-8359-4e4b-8395-8f8c5e328134@www.eastgatefuneral.com
DTSTAMP:20260422T183822Z
DTSTART:20260523T153000Z
DTEND:20260523T163000Z
SUMMARY:Memorial Service
DESCRIPTION:
URL:https://www.eastgatefuneral.com/obituaries/wayne-hopfinger
LOCATION:Eastgate Funeral Service 3117 East Century Avenue  Bismarck ND 
	58503
GEO:46.8379857;-100.7450849
END:VEVENT
END:VCALENDAR