BEGIN:VCALENDAR
VERSION:2.0
PRODID:-//Tukios.com/
BEGIN:VEVENT
UID:d66dbfad-8333-4a9b-8044-28a072eeb9dd@www.eastgatefuneral.com
DTSTAMP:20260422T183600Z
DTSTART:20260522T220000Z
DTEND:20260523T000000Z
SUMMARY:Visitation
DESCRIPTION:
URL:https://www.eastgatefuneral.com/obituaries/wayne-hopfinger
LOCATION:Eastgate Funeral Service 3117 East Century Avenue  Bismarck ND 
	58503
GEO:46.8379857;-100.7450849
END:VEVENT
END:VCALENDAR