BEGIN:VCALENDAR
VERSION:2.0
PRODID:-//Tukios.com/
BEGIN:VEVENT
UID:17a53aeb-e5e3-4e8c-af67-08dfac2af448@www.eastgatefuneral.com
DTSTAMP:20260421T013006Z
DTSTART:20260509T160000Z
DTEND:20260509T170000Z
SUMMARY:Memorial Service
DESCRIPTION:
URL:https://www.eastgatefuneral.com/obituaries/zanne-ness
LOCATION: 601 N 4th St  Bismarck ND 58501
GEO:46.8108944;-100.78549
END:VEVENT
END:VCALENDAR