BEGIN:VCALENDAR
VERSION:2.0
PRODID:-//Tukios.com/
BEGIN:VEVENT
UID:80c0947c-5f71-404c-aea7-0889ff1a02f9@www.eastgatefuneral.com
DTSTAMP:20260423T175920Z
DTSTART:20260425T150000Z
DTEND:20260425T160000Z
SUMMARY:Funeral Service
DESCRIPTION:
URL:https://www.eastgatefuneral.com/obituaries/zlatan-rasidovic
LOCATION: 2330 Tyler Parkway  Bismarck ND 58503
GEO:46.8321069;-100.8190476
END:VEVENT
END:VCALENDAR